BEGIN:VCALENDAR
VERSION:2.0
PRODID:-//ChurchDev//Events//EN
CALSCALE:GREGORIAN
METHOD:PUBLISH
BEGIN:VEVENT
UID:5009-20260426@www.hoopestonchurch.org
SUMMARY:Facility Rented
DTSTART:20260426T180000Z
DTEND:20260426T220000Z
DESCRIPTION:Lauren Allen\\nBirthday Party: 1-5 pm\\n\\nhttps://www.hoopestonchurch.org/events/facility-rented-58/
URL:https://www.hoopestonchurch.org/events/facility-rented-58/
DTSTAMP:20260419T223211Z
END:VEVENT
END:VCALENDAR
