BEGIN:VCALENDAR
VERSION:2.0
PRODID:-//ChurchDev//Events//EN
CALSCALE:GREGORIAN
METHOD:PUBLISH
BEGIN:VEVENT
UID:4967-20260503@www.hoopestonchurch.org
SUMMARY:Facility Rented
DTSTART:20260503T160000Z
DTEND:20260503T220000Z
DESCRIPTION:Bridal Shower- Josie\\n11-5pm\\n\\nhttps://www.hoopestonchurch.org/events/facility-rented-53/
URL:https://www.hoopestonchurch.org/events/facility-rented-53/
DTSTAMP:20260419T223212Z
END:VEVENT
END:VCALENDAR
