BEGIN:VCALENDAR
VERSION:2.0
PRODID:-//ChurchDev//Events//EN
CALSCALE:GREGORIAN
METHOD:PUBLISH
BEGIN:VEVENT
UID:4944-20260508@www.hoopestonchurch.org
SUMMARY:Pie Party at Autumn Fields
DTSTART:20260508T170000Z
DTEND:20260508T180000Z
DESCRIPTION:Please have pies to Autumn Fields by noon.\\n\\nhttps://www.hoopestonchurch.org/events/pie-party-at-autumn-fields-2/
URL:https://www.hoopestonchurch.org/events/pie-party-at-autumn-fields-2/
DTSTAMP:20260419T223218Z
END:VEVENT
END:VCALENDAR
