BEGIN:VCALENDAR
VERSION:2.0
PRODID:-//ChurchDev//Events//EN
CALSCALE:GREGORIAN
METHOD:PUBLISH
BEGIN:VEVENT
UID:4908-20250907@www.hoopestonchurch.org
SUMMARY:Youth Group!
DTSTART:20250907T230000Z
DTEND:20250908T010000Z
DESCRIPTION:Youth Group!\\nEvery Sunday from 6-8pm\\nAges: 6th &#8211\; 12th grade\\n\\nhttps://www.hoopestonchurch.org/events/youth-group/
URL:https://www.hoopestonchurch.org/events/youth-group/
DTSTAMP:20260419T223056Z
END:VEVENT
END:VCALENDAR
