BEGIN:VCALENDAR
VERSION:2.0
PRODID:-//ChurchDev//Events//EN
CALSCALE:GREGORIAN
METHOD:PUBLISH
BEGIN:VEVENT
UID:4904-20250827@www.hoopestonchurch.org
SUMMARY:AWANA
DTSTART:20250827T230000Z
DTEND:20250828T003000Z
DESCRIPTION:Cubbies: Ages 3 and 4\\nSparks: Kindergarten-2nd Grade\\nTruth &#038\; Training: 3rd Grade-6th Grade\\nTrek: 7-8 Grade\\nAWANA is every Wednesday night from 6-7:30pm\, September through April!\\n\\nhttps://www.hoopestonchurch.org/events/awana-5/
URL:https://www.hoopestonchurch.org/events/awana-5/
DTSTAMP:20260419T223050Z
END:VEVENT
END:VCALENDAR
