BEGIN:VCALENDAR
VERSION:2.0
PRODID:-//ChurchDev//Events//EN
CALSCALE:GREGORIAN
METHOD:PUBLISH
BEGIN:VEVENT
UID:4765-20250103@www.hoopestonchurch.org
SUMMARY:Joy Fellowship (Pot Luck)
DTSTART:20250104T000000Z
DTEND:20250104T010000Z
DESCRIPTION:Age 55 and older- 1st Friday of the month only.\\nBring a dish to share and enjoy great fellowship!\\n\\nhttps://www.hoopestonchurch.org/events/joy-fellowship-pot-luck-3/
URL:https://www.hoopestonchurch.org/events/joy-fellowship-pot-luck-3/
DTSTAMP:20260419T223049Z
END:VEVENT
END:VCALENDAR
