BEGIN:VCALENDAR
VERSION:2.0
PRODID:-//ChurchDev//Events//EN
CALSCALE:GREGORIAN
METHOD:PUBLISH
BEGIN:VEVENT
UID:4739-20250201@www.hoopestonchurch.org
SUMMARY:Men’s Breakfast
DTSTART:20250201T143000Z
DTEND:20250201T153000Z
DESCRIPTION:Bring a dish to share and enjoy great fellowship!\\n\\nhttps://www.hoopestonchurch.org/events/mens-breakfast-9/
URL:https://www.hoopestonchurch.org/events/mens-breakfast-9/
DTSTAMP:20260419T223055Z
END:VEVENT
END:VCALENDAR
