BEGIN:VCALENDAR
VERSION:2.0
PRODID:-//ChurchDev//Events//EN
CALSCALE:GREGORIAN
METHOD:PUBLISH
BEGIN:VEVENT
UID:4619-20240104@www.hoopestonchurch.org
SUMMARY:Celebrate Recovery
DTSTART:20240105T000000Z
DTEND:20240105T010000Z
DESCRIPTION:Meal at 6pm\\nGroup at 6:30pm\\n\\nhttps://www.hoopestonchurch.org/events/celebrate-recovery/
URL:https://www.hoopestonchurch.org/events/celebrate-recovery/
DTSTAMP:20260426T022052Z
END:VEVENT
END:VCALENDAR
